BEGIN:VCALENDAR
VERSION:2.0
PRODID:-//Ossian Parks &amp; Recreation - ECPv6.15.20//NONSGML v1.0//EN
CALSCALE:GREGORIAN
METHOD:PUBLISH
X-ORIGINAL-URL:https://ossianparks.com
X-WR-CALDESC:Events for Ossian Parks &amp; Recreation
REFRESH-INTERVAL;VALUE=DURATION:PT1H
X-Robots-Tag:noindex
X-PUBLISHED-TTL:PT1H
BEGIN:VTIMEZONE
TZID:America/Indiana/Indianapolis
BEGIN:DAYLIGHT
TZOFFSETFROM:-0500
TZOFFSETTO:-0400
TZNAME:EDT
DTSTART:20250309T070000
END:DAYLIGHT
BEGIN:STANDARD
TZOFFSETFROM:-0400
TZOFFSETTO:-0500
TZNAME:EST
DTSTART:20251102T060000
END:STANDARD
BEGIN:DAYLIGHT
TZOFFSETFROM:-0500
TZOFFSETTO:-0400
TZNAME:EDT
DTSTART:20260308T070000
END:DAYLIGHT
BEGIN:STANDARD
TZOFFSETFROM:-0400
TZOFFSETTO:-0500
TZNAME:EST
DTSTART:20261101T060000
END:STANDARD
BEGIN:DAYLIGHT
TZOFFSETFROM:-0500
TZOFFSETTO:-0400
TZNAME:EDT
DTSTART:20270314T070000
END:DAYLIGHT
BEGIN:STANDARD
TZOFFSETFROM:-0400
TZOFFSETTO:-0500
TZNAME:EST
DTSTART:20271107T060000
END:STANDARD
END:VTIMEZONE
BEGIN:VEVENT
DTSTART;TZID=America/Indiana/Indianapolis:20260801T070000
DTEND;TZID=America/Indiana/Indianapolis:20260801T100000
DTSTAMP:20260425T170546
CREATED:20260421T190226Z
LAST-MODIFIED:20260421T191057Z
UID:2249-1785567600-1785578400@ossianparks.com
SUMMARY:PUBLIC EVENT- BACK TO SCHOOL BASH
DESCRIPTION:
URL:https://ossianparks.com/event/public-event-back-to-school-bash/
LOCATION:Archbold Wilson Park
END:VEVENT
BEGIN:VEVENT
DTSTART;TZID=America/Indiana/Indianapolis:20260801T110000
DTEND;TZID=America/Indiana/Indianapolis:20260801T150000
DTSTAMP:20260425T170547
CREATED:20260211T152325Z
LAST-MODIFIED:20260211T152325Z
UID:2215-1785582000-1785596400@ossianparks.com
SUMMARY:PRIVATE EVENT
DESCRIPTION:FAMILY REUNION
URL:https://ossianparks.com/event/private-event-7/
LOCATION:Archbold Wilson Park
END:VEVENT
END:VCALENDAR