BEGIN:VCALENDAR
VERSION:2.0
PRODID:-//Ossian Parks &amp; Recreation - ECPv6.15.20//NONSGML v1.0//EN
CALSCALE:GREGORIAN
METHOD:PUBLISH
X-WR-CALNAME:Ossian Parks &amp; Recreation
X-ORIGINAL-URL:https://ossianparks.com
X-WR-CALDESC:Events for Ossian Parks &amp; Recreation
REFRESH-INTERVAL;VALUE=DURATION:PT1H
X-Robots-Tag:noindex
X-PUBLISHED-TTL:PT1H
BEGIN:VTIMEZONE
TZID:America/Indiana/Indianapolis
BEGIN:DAYLIGHT
TZOFFSETFROM:-0500
TZOFFSETTO:-0400
TZNAME:EDT
DTSTART:20240310T070000
END:DAYLIGHT
BEGIN:STANDARD
TZOFFSETFROM:-0400
TZOFFSETTO:-0500
TZNAME:EST
DTSTART:20241103T060000
END:STANDARD
BEGIN:DAYLIGHT
TZOFFSETFROM:-0500
TZOFFSETTO:-0400
TZNAME:EDT
DTSTART:20250309T070000
END:DAYLIGHT
BEGIN:STANDARD
TZOFFSETFROM:-0400
TZOFFSETTO:-0500
TZNAME:EST
DTSTART:20251102T060000
END:STANDARD
BEGIN:DAYLIGHT
TZOFFSETFROM:-0500
TZOFFSETTO:-0400
TZNAME:EDT
DTSTART:20260308T070000
END:DAYLIGHT
BEGIN:STANDARD
TZOFFSETFROM:-0400
TZOFFSETTO:-0500
TZNAME:EST
DTSTART:20261101T060000
END:STANDARD
BEGIN:DAYLIGHT
TZOFFSETFROM:-0500
TZOFFSETTO:-0400
TZNAME:EDT
DTSTART:20270314T070000
END:DAYLIGHT
BEGIN:STANDARD
TZOFFSETFROM:-0400
TZOFFSETTO:-0500
TZNAME:EST
DTSTART:20271107T060000
END:STANDARD
END:VTIMEZONE
BEGIN:VEVENT
DTSTART;TZID=America/Indiana/Indianapolis:20260605T150000
DTEND;TZID=America/Indiana/Indianapolis:20260605T210000
DTSTAMP:20260425T172443
CREATED:20250331T134148Z
LAST-MODIFIED:20250619T140123Z
UID:2049-1780671600-1780693200@ossianparks.com
SUMMARY:Private Event
DESCRIPTION:
URL:https://ossianparks.com/event/pending-private-event-18/
LOCATION:Archbold Wilson Park
END:VEVENT
BEGIN:VEVENT
DTSTART;TZID=America/Indiana/Indianapolis:20260604T113000
DTEND;TZID=America/Indiana/Indianapolis:20260604T210000
DTSTAMP:20260425T172443
CREATED:20250422T164636Z
LAST-MODIFIED:20260416T150122Z
UID:2079-1780572600-1780606800@ossianparks.com
SUMMARY:Private Event
DESCRIPTION:
URL:https://ossianparks.com/event/pending-private-event-14/
LOCATION:Archbold Wilson Park
END:VEVENT
BEGIN:VEVENT
DTSTART;TZID=America/Indiana/Indianapolis:20260531T180000
DTEND;TZID=America/Indiana/Indianapolis:20260531T230000
DTSTAMP:20260425T172443
CREATED:20260421T191156Z
LAST-MODIFIED:20260421T191156Z
UID:2251-1780250400-1780268400@ossianparks.com
SUMMARY:PENDING PRIVATE EVENT
DESCRIPTION:
URL:https://ossianparks.com/event/pending-private-event-9/
LOCATION:Archbold Wilson Park
END:VEVENT
BEGIN:VEVENT
DTSTART;TZID=America/Indiana/Indianapolis:20260529T150000
DTEND;TZID=America/Indiana/Indianapolis:20260529T210000
DTSTAMP:20260425T172443
CREATED:20260416T142949Z
LAST-MODIFIED:20260416T143018Z
UID:2243-1780066800-1780088400@ossianparks.com
SUMMARY:PRIVATE EVENT
DESCRIPTION:
URL:https://ossianparks.com/event/private-event-8/
LOCATION:Archbold Wilson Park
END:VEVENT
BEGIN:VEVENT
DTSTART;TZID=America/Indiana/Indianapolis:20260524T083000
DTEND;TZID=America/Indiana/Indianapolis:20260524T210000
DTSTAMP:20260425T172443
CREATED:20260105T180828Z
LAST-MODIFIED:20260105T180828Z
UID:2185-1779611400-1779656400@ossianparks.com
SUMMARY:PRIVATE EVENT
DESCRIPTION:
URL:https://ossianparks.com/event/private-event-5/
LOCATION:Archbold Wilson Park
END:VEVENT
BEGIN:VEVENT
DTSTART;TZID=America/Indiana/Indianapolis:20260523T100000
DTEND;TZID=America/Indiana/Indianapolis:20260523T150000
DTSTAMP:20260425T172443
CREATED:20260406T125100Z
LAST-MODIFIED:20260408T165203Z
UID:2237-1779530400-1779548400@ossianparks.com
SUMMARY:PRIVATE EVENT
DESCRIPTION:
URL:https://ossianparks.com/event/pending-event/
LOCATION:Archbold Wilson Park
END:VEVENT
BEGIN:VEVENT
DTSTART;TZID=America/Indiana/Indianapolis:20260517T150000
DTEND;TZID=America/Indiana/Indianapolis:20260517T210000
DTSTAMP:20260425T172443
CREATED:20260303T152643Z
LAST-MODIFIED:20260416T141252Z
UID:2225-1779030000-1779051600@ossianparks.com
SUMMARY:PRIVATE EVENT
DESCRIPTION:GRAD PARTY
URL:https://ossianparks.com/event/pending-private-event-35/
LOCATION:Archbold Wilson Park
END:VEVENT
BEGIN:VEVENT
DTSTART;VALUE=DATE:20260516
DTEND;VALUE=DATE:20260517
DTSTAMP:20260425T172443
CREATED:20260226T162147Z
LAST-MODIFIED:20260226T182644Z
UID:2221-1778889600-1778975999@ossianparks.com
SUMMARY:PUBLIC EVENT - KIDS BUSINESS FAIR
DESCRIPTION:
URL:https://ossianparks.com/event/public-event-kids-business-fair/
LOCATION:Archbold Wilson Park
END:VEVENT
BEGIN:VEVENT
DTSTART;TZID=America/Indiana/Indianapolis:20260404T100000
DTEND;TZID=America/Indiana/Indianapolis:20260404T140000
DTSTAMP:20260425T172443
CREATED:20260102T155021Z
LAST-MODIFIED:20260102T155021Z
UID:2178-1775296800-1775311200@ossianparks.com
SUMMARY:COMMUNITY EASTER EGG HUNT
DESCRIPTION:Annual Community Easter Egg Hunt- Presented By Ossian Church of the Nazarene \nMore info to come soon once plans are finalized \n!
URL:https://ossianparks.com/event/community-easter-egg-hunt/
END:VEVENT
BEGIN:VEVENT
DTSTART;TZID=America/Indiana/Indianapolis:20251218T100000
DTEND;TZID=America/Indiana/Indianapolis:20251218T170000
DTSTAMP:20260425T172443
CREATED:20251218T165721Z
LAST-MODIFIED:20251218T165721Z
UID:2174-1766052000-1766077200@ossianparks.com
SUMMARY:PENDING-PRIVATE EVENT
DESCRIPTION:
URL:https://ossianparks.com/event/pending-private-event-33/
LOCATION:Archbold Wilson Park
END:VEVENT
BEGIN:VEVENT
DTSTART;TZID=America/Indiana/Indianapolis:20251012T100000
DTEND;TZID=America/Indiana/Indianapolis:20251012T163000
DTSTAMP:20260425T172443
CREATED:20250923T185908Z
LAST-MODIFIED:20250923T185908Z
UID:2155-1760263200-1760286600@ossianparks.com
SUMMARY:PRIVATE EVENT
DESCRIPTION:
URL:https://ossianparks.com/event/private-event-4/
LOCATION:Archbold Wilson Park
END:VEVENT
BEGIN:VEVENT
DTSTART;TZID=America/Indiana/Indianapolis:20251011T170000
DTEND;TZID=America/Indiana/Indianapolis:20251011T210000
DTSTAMP:20260425T172443
CREATED:20250919T122647Z
LAST-MODIFIED:20250919T132055Z
UID:2150-1760202000-1760216400@ossianparks.com
SUMMARY:PRIVATE EVENT
DESCRIPTION:
URL:https://ossianparks.com/event/private-event-pending-2/
LOCATION:Archbold Wilson Park
END:VEVENT
BEGIN:VEVENT
DTSTART;TZID=America/Indiana/Indianapolis:20250923T180000
DTEND;TZID=America/Indiana/Indianapolis:20250923T220000
DTSTAMP:20260425T172443
CREATED:20250910T171000Z
LAST-MODIFIED:20250910T171218Z
UID:2137-1758650400-1758664800@ossianparks.com
SUMMARY:PRIVATE EVENT
DESCRIPTION:
URL:https://ossianparks.com/event/private-event-2/
LOCATION:Archbold Wilson Park
END:VEVENT
BEGIN:VEVENT
DTSTART;TZID=America/Indiana/Indianapolis:20250922T181500
DTEND;TZID=America/Indiana/Indianapolis:20250922T201500
DTSTAMP:20260425T172443
CREATED:20250905T171927Z
LAST-MODIFIED:20250923T185716Z
UID:2129-1758564900-1758572100@ossianparks.com
SUMMARY:PRIVATE EVENT
DESCRIPTION:
URL:https://ossianparks.com/event/pending-private-event-27/
LOCATION:Archbold Wilson Park
END:VEVENT
BEGIN:VEVENT
DTSTART;TZID=America/Indiana/Indianapolis:20250920T033000
DTEND;TZID=America/Indiana/Indianapolis:20250920T183000
DTSTAMP:20260425T172443
CREATED:20250916T142407Z
LAST-MODIFIED:20250916T142407Z
UID:2142-1758339000-1758393000@ossianparks.com
SUMMARY:PENDING PRIVATE EVENT
DESCRIPTION:
URL:https://ossianparks.com/event/pending-private-event-28/
END:VEVENT
BEGIN:VEVENT
DTSTART;TZID=America/Indiana/Indianapolis:20250914T093000
DTEND;TZID=America/Indiana/Indianapolis:20250914T153000
DTSTAMP:20260425T172443
CREATED:20250619T142922Z
LAST-MODIFIED:20250619T142922Z
UID:2125-1757842200-1757863800@ossianparks.com
SUMMARY:Pending-Private Event
DESCRIPTION:
URL:https://ossianparks.com/event/pending-private-event-26/
LOCATION:Archbold Wilson Park
END:VEVENT
BEGIN:VEVENT
DTSTART;TZID=America/Indiana/Indianapolis:20250913T093000
DTEND;TZID=America/Indiana/Indianapolis:20250913T150000
DTSTAMP:20260425T172443
CREATED:20250910T171134Z
LAST-MODIFIED:20250910T171134Z
UID:2139-1757755800-1757775600@ossianparks.com
SUMMARY:PRIVATE EVENT-PENDING
DESCRIPTION:
URL:https://ossianparks.com/event/private-event-pending/
LOCATION:Archbold Wilson Park
END:VEVENT
BEGIN:VEVENT
DTSTART;TZID=America/Indiana/Indianapolis:20250907T133000
DTEND;TZID=America/Indiana/Indianapolis:20250907T170000
DTSTAMP:20260425T172443
CREATED:20250905T173839Z
LAST-MODIFIED:20250905T173839Z
UID:2132-1757251800-1757264400@ossianparks.com
SUMMARY:PUBLIC EVENT- SUMMIT CITY CHORUS
DESCRIPTION:Free barbershop concert in the park-Featuring the Summit City Barbershop Chorus and various quarts. Free to public- donations accepted at conclusion. – Show begins at 3:30pm-5pm
URL:https://ossianparks.com/event/public-event-summit-city-chorus/
LOCATION:Archbold Wilson Park
END:VEVENT
BEGIN:VEVENT
DTSTART;TZID=America/Indiana/Indianapolis:20250906T120000
DTEND;TZID=America/Indiana/Indianapolis:20250906T200000
DTSTAMP:20260425T172443
CREATED:20250120T142414Z
LAST-MODIFIED:20250120T142459Z
UID:2003-1757160000-1757188800@ossianparks.com
SUMMARY:FREE PUBLIC EVENT by First Baptist Church
DESCRIPTION:Clay Dyer is a profession angler with no arms and no legs. Learn how Clay doesnt let his physical disabilities be an obstacle to his life and career in the Bassmaster Open Series. Clay has an amazing story and is an inspiration to all those around him.
URL:https://ossianparks.com/event/free-public-event-by-first-baptist-church/
LOCATION:Archbold Wilson Park
END:VEVENT
BEGIN:VEVENT
DTSTART;TZID=America/Indiana/Indianapolis:20250830T080000
DTEND;TZID=America/Indiana/Indianapolis:20250830T230000
DTSTAMP:20260425T172443
CREATED:20240910T154935Z
LAST-MODIFIED:20240910T154935Z
UID:1950-1756540800-1756594800@ossianparks.com
SUMMARY:SUMMER CONCERT SERIES
DESCRIPTION:
URL:https://ossianparks.com/event/summer-concert-series-4/
LOCATION:Archbold Wilson Park
END:VEVENT
BEGIN:VEVENT
DTSTART;TZID=America/Indiana/Indianapolis:20250823T080000
DTEND;TZID=America/Indiana/Indianapolis:20250823T120000
DTSTAMP:20260425T172443
CREATED:20250619T140403Z
LAST-MODIFIED:20250619T140403Z
UID:2123-1755936000-1755950400@ossianparks.com
SUMMARY:Soccer Club Pictures
DESCRIPTION:
URL:https://ossianparks.com/event/soccer-club-pictures/
LOCATION:Archbold Wilson Park
END:VEVENT
BEGIN:VEVENT
DTSTART;TZID=America/Indiana/Indianapolis:20250802T090000
DTEND;TZID=America/Indiana/Indianapolis:20250802T090000
DTSTAMP:20260425T172443
CREATED:20250530T165906Z
LAST-MODIFIED:20250530T165906Z
UID:2111-1754125200-1754125200@ossianparks.com
SUMMARY:BACK 2 SCHOOL BASH
DESCRIPTION:MORE INFO TO COME!!!!!
URL:https://ossianparks.com/event/back-2-school-bash/
END:VEVENT
BEGIN:VEVENT
DTSTART;TZID=America/Indiana/Indianapolis:20250726T080000
DTEND;TZID=America/Indiana/Indianapolis:20250726T230000
DTSTAMP:20260425T172443
CREATED:20240910T154854Z
LAST-MODIFIED:20240910T154854Z
UID:1948-1753516800-1753570800@ossianparks.com
SUMMARY:SUMMER CONCERT SERIES
DESCRIPTION:
URL:https://ossianparks.com/event/summer-concert-series-3/
LOCATION:Archbold Wilson Park
END:VEVENT
BEGIN:VEVENT
DTSTART;TZID=America/Indiana/Indianapolis:20250719T103000
DTEND;TZID=America/Indiana/Indianapolis:20250719T160000
DTSTAMP:20260425T172443
CREATED:20250218T123410Z
LAST-MODIFIED:20250318T190954Z
UID:2019-1752921000-1752940800@ossianparks.com
SUMMARY:Private Event
DESCRIPTION:
URL:https://ossianparks.com/event/pending-private-event-7/
LOCATION:Archbold Wilson Park
END:VEVENT
BEGIN:VEVENT
DTSTART;TZID=America/Indiana/Indianapolis:20250712T130000
DTEND;TZID=America/Indiana/Indianapolis:20250712T190000
DTSTAMP:20260425T172443
CREATED:20250613T115325Z
LAST-MODIFIED:20250619T135954Z
UID:2118-1752325200-1752346800@ossianparks.com
SUMMARY:Pending Private Event-Melching
DESCRIPTION:
URL:https://ossianparks.com/event/pending-private-event-25/
LOCATION:Melching Park
END:VEVENT
BEGIN:VEVENT
DTSTART;TZID=America/Indiana/Indianapolis:20250712T080000
DTEND;TZID=America/Indiana/Indianapolis:20250712T200000
DTSTAMP:20260425T172443
CREATED:20250224T174326Z
LAST-MODIFIED:20250410T171537Z
UID:2026-1752307200-1752350400@ossianparks.com
SUMMARY:Private Event
DESCRIPTION:
URL:https://ossianparks.com/event/pending-private-event-13/
LOCATION:Archbold Wilson Park
END:VEVENT
BEGIN:VEVENT
DTSTART;TZID=America/Indiana/Indianapolis:20250705T113000
DTEND;TZID=America/Indiana/Indianapolis:20250705T160000
DTSTAMP:20260425T172443
CREATED:20250129T131616Z
LAST-MODIFIED:20250219T140339Z
UID:2008-1751715000-1751731200@ossianparks.com
SUMMARY:Private Event
DESCRIPTION:
URL:https://ossianparks.com/event/pending-private-event-2/
LOCATION:Archbold Wilson Park
END:VEVENT
BEGIN:VEVENT
DTSTART;TZID=America/Indiana/Indianapolis:20250628T080000
DTEND;TZID=America/Indiana/Indianapolis:20250628T230000
DTSTAMP:20260425T172443
CREATED:20240910T154747Z
LAST-MODIFIED:20240910T154747Z
UID:1946-1751097600-1751151600@ossianparks.com
SUMMARY:SUMMER CONCERT SERIES
DESCRIPTION:
URL:https://ossianparks.com/event/summer-concert-series-2/
LOCATION:Archbold Wilson Park
END:VEVENT
BEGIN:VEVENT
DTSTART;TZID=America/Indiana/Indianapolis:20250622T130000
DTEND;TZID=America/Indiana/Indianapolis:20250622T160000
DTSTAMP:20260425T172443
CREATED:20250415T160812Z
LAST-MODIFIED:20250501T175223Z
UID:2076-1750597200-1750608000@ossianparks.com
SUMMARY:Private Event
DESCRIPTION:
URL:https://ossianparks.com/event/pending-private/
LOCATION:Archbold Wilson Park
END:VEVENT
BEGIN:VEVENT
DTSTART;TZID=America/Indiana/Indianapolis:20250621T080000
DTEND;TZID=America/Indiana/Indianapolis:20250621T220000
DTSTAMP:20260425T172443
CREATED:20250109T182948Z
LAST-MODIFIED:20250203T174923Z
UID:1994-1750492800-1750543200@ossianparks.com
SUMMARY:Private Event
DESCRIPTION:
URL:https://ossianparks.com/event/pending-private-event/
LOCATION:Archbold Wilson Park
END:VEVENT
END:VCALENDAR