BEGIN:VCALENDAR
VERSION:2.0
PRODID:-//Ossian Parks &amp; Recreation - ECPv6.15.20//NONSGML v1.0//EN
CALSCALE:GREGORIAN
METHOD:PUBLISH
X-WR-CALNAME:Ossian Parks &amp; Recreation
X-ORIGINAL-URL:https://ossianparks.com
X-WR-CALDESC:Events for Ossian Parks &amp; Recreation
REFRESH-INTERVAL;VALUE=DURATION:PT1H
X-Robots-Tag:noindex
X-PUBLISHED-TTL:PT1H
BEGIN:VTIMEZONE
TZID:America/Indiana/Indianapolis
BEGIN:DAYLIGHT
TZOFFSETFROM:-0500
TZOFFSETTO:-0400
TZNAME:EDT
DTSTART:20240310T070000
END:DAYLIGHT
BEGIN:STANDARD
TZOFFSETFROM:-0400
TZOFFSETTO:-0500
TZNAME:EST
DTSTART:20241103T060000
END:STANDARD
BEGIN:DAYLIGHT
TZOFFSETFROM:-0500
TZOFFSETTO:-0400
TZNAME:EDT
DTSTART:20250309T070000
END:DAYLIGHT
BEGIN:STANDARD
TZOFFSETFROM:-0400
TZOFFSETTO:-0500
TZNAME:EST
DTSTART:20251102T060000
END:STANDARD
BEGIN:DAYLIGHT
TZOFFSETFROM:-0500
TZOFFSETTO:-0400
TZNAME:EDT
DTSTART:20260308T070000
END:DAYLIGHT
BEGIN:STANDARD
TZOFFSETFROM:-0400
TZOFFSETTO:-0500
TZNAME:EST
DTSTART:20261101T060000
END:STANDARD
END:VTIMEZONE
BEGIN:VEVENT
DTSTART;TZID=America/Indiana/Indianapolis:20250610T153000
DTEND;TZID=America/Indiana/Indianapolis:20250610T200000
DTSTAMP:20260425T190525
CREATED:20250424T114422Z
LAST-MODIFIED:20250512T164047Z
UID:2086-1749569400-1749585600@ossianparks.com
SUMMARY:Private Event
DESCRIPTION:
URL:https://ossianparks.com/event/pending-private-event-20/
LOCATION:Archbold Wilson Park
END:VEVENT
BEGIN:VEVENT
DTSTART;TZID=America/Indiana/Indianapolis:20250608T093000
DTEND;TZID=America/Indiana/Indianapolis:20250608T200000
DTSTAMP:20260425T190525
CREATED:20240903T113540Z
LAST-MODIFIED:20250410T170927Z
UID:1936-1749375000-1749412800@ossianparks.com
SUMMARY:Private Event
DESCRIPTION:
URL:https://ossianparks.com/event/pending-private-event-5/
LOCATION:Archbold Wilson Park
END:VEVENT
BEGIN:VEVENT
DTSTART;TZID=America/Indiana/Indianapolis:20250607T140000
DTEND;TZID=America/Indiana/Indianapolis:20250607T180000
DTSTAMP:20260425T190525
CREATED:20240904T134327Z
LAST-MODIFIED:20241118T194104Z
UID:1938-1749304800-1749319200@ossianparks.com
SUMMARY:Private Event
DESCRIPTION:
URL:https://ossianparks.com/event/pending-private-event-6/
LOCATION:Archbold Wilson Park
END:VEVENT
BEGIN:VEVENT
DTSTART;TZID=America/Indiana/Indianapolis:20250601T110000
DTEND;TZID=America/Indiana/Indianapolis:20250601T230000
DTSTAMP:20260425T190525
CREATED:20240701T113206Z
LAST-MODIFIED:20241112T152319Z
UID:1911-1748775600-1748818800@ossianparks.com
SUMMARY:Private Event
DESCRIPTION:
URL:https://ossianparks.com/event/pending-private-event-91/
LOCATION:Archbold Wilson Park
END:VEVENT
BEGIN:VEVENT
DTSTART;TZID=America/Indiana/Indianapolis:20250531T163000
DTEND;TZID=America/Indiana/Indianapolis:20250531T210000
DTSTAMP:20260425T190525
CREATED:20250121T122146Z
LAST-MODIFIED:20250121T122146Z
UID:2005-1748709000-1748725200@ossianparks.com
SUMMARY:Private Event
DESCRIPTION:
URL:https://ossianparks.com/event/private-event/
LOCATION:Archbold Wilson Park
END:VEVENT
BEGIN:VEVENT
DTSTART;TZID=America/Indiana/Indianapolis:20250531T130000
DTEND;TZID=America/Indiana/Indianapolis:20250531T160000
DTSTAMP:20260425T190525
CREATED:20240620T111007Z
LAST-MODIFIED:20240805T121748Z
UID:1903-1748696400-1748707200@ossianparks.com
SUMMARY:Private Event
DESCRIPTION:
URL:https://ossianparks.com/event/pending-private-event-89/
LOCATION:Archbold Wilson Park
END:VEVENT
BEGIN:VEVENT
DTSTART;TZID=America/Indiana/Indianapolis:20250525T133000
DTEND;TZID=America/Indiana/Indianapolis:20250525T180000
DTSTAMP:20260425T190525
CREATED:20250307T133729Z
LAST-MODIFIED:20250331T115655Z
UID:2031-1748179800-1748196000@ossianparks.com
SUMMARY:Private Event
DESCRIPTION:
URL:https://ossianparks.com/event/pending-private-event-15/
LOCATION:Archbold Wilson Park
END:VEVENT
BEGIN:VEVENT
DTSTART;TZID=America/Indiana/Indianapolis:20250524T140000
DTEND;TZID=America/Indiana/Indianapolis:20250524T220000
DTSTAMP:20260425T190525
CREATED:20240507T115311Z
LAST-MODIFIED:20241204T165031Z
UID:1876-1748095200-1748124000@ossianparks.com
SUMMARY:Private Event
DESCRIPTION:
URL:https://ossianparks.com/event/pending-private-event-86/
LOCATION:Archbold Wilson Park
END:VEVENT
BEGIN:VEVENT
DTSTART;TZID=America/Indiana/Indianapolis:20250518T113000
DTEND;TZID=America/Indiana/Indianapolis:20250518T170000
DTSTAMP:20260425T190525
CREATED:20241022T115417Z
LAST-MODIFIED:20250410T170400Z
UID:1968-1747567800-1747587600@ossianparks.com
SUMMARY:Private Event
DESCRIPTION:
URL:https://ossianparks.com/event/pending-private-event-10/
LOCATION:Archbold Wilson Park
END:VEVENT
BEGIN:VEVENT
DTSTART;TZID=America/Indiana/Indianapolis:20250517T133000
DTEND;TZID=America/Indiana/Indianapolis:20250517T210000
DTSTAMP:20260425T190525
CREATED:20220223T194413Z
LAST-MODIFIED:20250410T165541Z
UID:1375-1747488600-1747515600@ossianparks.com
SUMMARY:Private Event
DESCRIPTION:
URL:https://ossianparks.com/event/pending-private-event-23/
LOCATION:Archbold Wilson Park
END:VEVENT
BEGIN:VEVENT
DTSTART;TZID=America/Indiana/Indianapolis:20250511T163000
DTEND;TZID=America/Indiana/Indianapolis:20250511T210000
DTSTAMP:20260425T190525
CREATED:20250422T164924Z
LAST-MODIFIED:20250505T131443Z
UID:2083-1746981000-1746997200@ossianparks.com
SUMMARY:Private Event
DESCRIPTION:
URL:https://ossianparks.com/event/pending-private-event-19/
LOCATION:Archbold Wilson Park
END:VEVENT
BEGIN:VEVENT
DTSTART;TZID=America/Indiana/Indianapolis:20250504T113000
DTEND;TZID=America/Indiana/Indianapolis:20250504T160000
DTSTAMP:20260425T190525
CREATED:20250204T161306Z
LAST-MODIFIED:20250219T140819Z
UID:2016-1746358200-1746374400@ossianparks.com
SUMMARY:Private Event
DESCRIPTION:
URL:https://ossianparks.com/event/pending-private-event-4/
LOCATION:Archbold Wilson Park
END:VEVENT
BEGIN:VEVENT
DTSTART;TZID=America/Indiana/Indianapolis:20250419T153000
DTEND;TZID=America/Indiana/Indianapolis:20250419T220000
DTSTAMP:20260425T190525
CREATED:20250312T112153Z
LAST-MODIFIED:20250327T170731Z
UID:2036-1745076600-1745100000@ossianparks.com
SUMMARY:Private Event
DESCRIPTION:
URL:https://ossianparks.com/event/pending-private-event-16/
LOCATION:Archbold Wilson Park
END:VEVENT
BEGIN:VEVENT
DTSTART;TZID=America/Indiana/Indianapolis:20250419T100000
DTEND;TZID=America/Indiana/Indianapolis:20250419T150000
DTSTAMP:20260425T190525
CREATED:20240910T130614Z
LAST-MODIFIED:20250115T193948Z
UID:1942-1745056800-1745074800@ossianparks.com
SUMMARY:COMMUNITY EASTER CELEBRATION
DESCRIPTION:
URL:https://ossianparks.com/event/community-easter-celebration/
LOCATION:Archbold Wilson Park
END:VEVENT
BEGIN:VEVENT
DTSTART;TZID=America/Indiana/Indianapolis:20250328T153000
DTEND;TZID=America/Indiana/Indianapolis:20250328T200000
DTSTAMP:20260425T190525
CREATED:20250325T125649Z
LAST-MODIFIED:20250325T125649Z
UID:2041-1743175800-1743192000@ossianparks.com
SUMMARY:Pending-Private Event
DESCRIPTION:
URL:https://ossianparks.com/event/pending-private-event-17/
LOCATION:Archbold Wilson Park
END:VEVENT
END:VCALENDAR